BEGIN:VCALENDAR
PRODID:-//eluceo/ical//2.0/EN
VERSION:2.0
CALSCALE:GREGORIAN
BEGIN:VEVENT
UID:1639ef4bd081143f33737b8b7b416baf
DTSTAMP:20260422T021738Z
SUMMARY:PJ Library at the Park!
DESCRIPTION:Shaw JCC of Akron\nJCC Calendar\nhttps://shawjcc.org/jcccalenda
 r/pj-library-at-the-park-278369\n\nJoin us for an awesome story hour and p
 layground adventures! Complete with stories\, snacks\, and BUBBLES! No cos
 t\, but RSVPs are a MUST - so we have enough for all. julie_katz@jewishakr
 on.org
DTSTART;TZID=America/New_York:20180818T153000
DTEND;TZID=America/New_York:20180818T163000
END:VEVENT
END:VCALENDAR
