BEGIN:VCALENDAR
PRODID:-//eluceo/ical//2.0/EN
VERSION:2.0
CALSCALE:GREGORIAN
BEGIN:VEVENT
UID:f70c91997229588af7f7866e28b0a5ed
DTSTAMP:20260422T021821Z
SUMMARY:Pop Up Spinning Class - 20/20/20
DESCRIPTION:Shaw JCC of Akron\nJCC Calendar\nhttps://shawjcc.org/jcccalenda
 r/pop-up-spinning-class-202020-nov112017\n\n20 min spinning\, 20 min stren
 gth\, 20 min core & yoga stretches. Instructor: Annette
DTSTART;TZID=America/New_York:20171111T110000
DTEND;TZID=America/New_York:20171111T120000
END:VEVENT
END:VCALENDAR
