BEGIN:VCALENDAR
PRODID:-//eluceo/ical//2.0/EN
VERSION:2.0
CALSCALE:GREGORIAN
BEGIN:VEVENT
UID:5ad1d344f7b63cf678013b9f08a7f1d1
DTSTAMP:20260425T015034Z
SUMMARY:Pop Up Spinning Class - Spinning & Core
DESCRIPTION:Shaw JCC of Akron\nJCC Calendar\nhttps://shawjcc.org/jcccalenda
 r/pop-up-spinning-class-spinning-core-oct212017\n\nA combination of spinni
 ng and core exercises. Instructor: Catherine
DTSTART;TZID=America/New_York:20171021T080000
DTEND;TZID=America/New_York:20171021T090000
END:VEVENT
END:VCALENDAR
