BEGIN:VCALENDAR
PRODID:-//eluceo/ical//2.0/EN
VERSION:2.0
CALSCALE:GREGORIAN
BEGIN:VEVENT
UID:8ef85e6124d58e6f60b3ed27d410c44f
DTSTAMP:20260424T015755Z
SUMMARY:Posture Program
DESCRIPTION:Shaw JCC of Akron\nJCC Calendar\nhttps://shawjcc.org/jcccalenda
 r/posture-program-04252018\n\nSarah Kapp PT\, CIDN\, CKTP will once again 
 grace us with her knowledge of how and why good posture is so important. U
 nderstanding why posture is important to us as we age in imperative to a h
 ealthy lifestyle. Sarah will teach us techniques to correct posture and co
 ntinue to be active. Please RSVP to Rachel Williams at 330-835-0027. Free 
 and open to the public.
DTSTART;TZID=America/New_York:20180425T113000
DTEND;TZID=America/New_York:20180425T123000
END:VEVENT
END:VCALENDAR
