BEGIN:VCALENDAR
PRODID:-//eluceo/ical//2.0/EN
VERSION:2.0
CALSCALE:GREGORIAN
BEGIN:VEVENT
UID:d1ff90457561804f8f14f3cb881d2788
DTSTAMP:20260426T003757Z
SUMMARY:Pots and Pans Cooking Class
DESCRIPTION:Shaw JCC of Akron\nJCC Calendar\nhttps://shawjcc.org/jcccalenda
 r/pots-and-pans-cooking-class-1549481598-301140\n\nSeasonal cooking for on
 e or two. This month we'll be making some easy and delicious appetizers.
DTSTART;TZID=America/New_York:20190321T133000
DTEND;TZID=America/New_York:20190321T160000
END:VEVENT
END:VCALENDAR
