BEGIN:VCALENDAR
PRODID:-//eluceo/ical//2.0/EN
VERSION:2.0
CALSCALE:GREGORIAN
BEGIN:VEVENT
UID:33b23122592ea3b509a9fe1709721dda
DTSTAMP:20260422T051749Z
SUMMARY:Power Yoga
DESCRIPTION:Shaw JCC of Akron\nJCC Calendar\nhttps://shawjcc.org/jcccalenda
 r/power-yoga-12022017\n\nVigorous\, fitness-based approach to vinyasa-sty
 le yoga. Students will move fluidly from one pose to the next while conne
 cting their breathing to their movements. (All Levels)
DTSTART;TZID=America/New_York:20171202T080000
DTEND;TZID=America/New_York:20171202T091500
END:VEVENT
END:VCALENDAR
