BEGIN:VCALENDAR
PRODID:-//eluceo/ical//2.0/EN
VERSION:2.0
CALSCALE:GREGORIAN
BEGIN:VEVENT
UID:5d9be9b911faadea12c14497bfecc8be
DTSTAMP:20260420T165413Z
SUMMARY:Pre-K Graduation
DESCRIPTION:Shaw JCC of Akron\nJCC Calendar\nhttps://shawjcc.org/jcccalenda
 r/pre-k-graduation-1556653441\n\nPre-K Graduation Program
DTSTART;TZID=America/New_York:20190522T181500
DTEND;TZID=America/New_York:20190522T200000
END:VEVENT
END:VCALENDAR
