BEGIN:VCALENDAR
PRODID:-//eluceo/ical//2.0/EN
VERSION:2.0
CALSCALE:GREGORIAN
BEGIN:VEVENT
UID:bdb6fab07e615d06fed6404a09ca46fc
DTSTAMP:20260422T092409Z
SUMMARY:Preschool 1 American Red Cross Swim Lessons
DESCRIPTION:Shaw JCC of Akron\nJCC Calendar\nhttps://shawjcc.org/jcccalenda
 r/preschool-1-american-red-cross-swim-lessons-june32019\n\nBuild your todd
 ler’s confidence in the water through safe exploration. We will introduc
 e your child to being comfortable in the water for the first time in a gro
 up setting without mom and dad. They will learn basic swimming skills\, bl
 owing bubbles\, kicking\, floating on front and back while assisted and mo
 st importantly having fun for preschoolers 3 to 5 years old. \n\n603.009\
 n\nCost: $43 M/$65 G\n\nJun. 3-13  10:15-10:45 a.m.Mondays\, Tuesdays\, W
 ednesdays\, & Thursdays 
DTSTART;TZID=America/New_York:20190603T101500
DTEND;TZID=America/New_York:20190603T104500
END:VEVENT
END:VCALENDAR
