BEGIN:VCALENDAR
PRODID:-//eluceo/ical//2.0/EN
VERSION:2.0
CALSCALE:GREGORIAN
BEGIN:VEVENT
UID:28a7042cda7851e7e579319f534ccb3e
DTSTAMP:20260425T113545Z
SUMMARY:Preschool 1 American Red Cross Swim Lessons
DESCRIPTION:Shaw JCC of Akron\nJCC Calendar\nhttps://shawjcc.org/jcccalenda
 r/preschool-1-american-red-cross-swim-lessons-may132019\n\nBuild your todd
 ler’s confidence in the water through safe exploration. We will introduc
 e your child to being comfortable in the water for the first time in a gro
 up setting without mom and dad. They will learn basic swimming skills\, bl
 owing bubbles\, kicking\, floating on front and back while assisted and mo
 st importantly having fun for preschoolers 3 to 5 years old.\n\n603.006\n\
 nCost: $43 Member/$65 Guest\n\nMay. 13 - Jun. 5 Mondays & Wednesdays 5:30-
 6 p.m. \n\n(No Lessons May 27)
DTSTART;TZID=America/New_York:20190513T173000
DTEND;TZID=America/New_York:20190513T180000
END:VEVENT
END:VCALENDAR
