BEGIN:VCALENDAR
PRODID:-//eluceo/ical//2.0/EN
VERSION:2.0
CALSCALE:GREGORIAN
BEGIN:VEVENT
UID:4c6a2b5f79a7bfe849b48fd47e9d8924
DTSTAMP:20260420T155128Z
SUMMARY:Preschool 1 American Red Cross Swim Lessons
DESCRIPTION:Shaw JCC of Akron\nJCC Calendar\nhttps://shawjcc.org/jcccalenda
 r/preschool-1-american-red-cross-swim-lessonsfeb2020-337535\n\nThis progra
 m introduces your child to being comfortable in a group setting\, independ
 ent of parents participating in the water with them. This class promises f
 un for preschoolers aged 3-5 years old. \n\nSwimmers will learn how to:\n
 \nBasic water skills\n\nBlowing bubbles\n\nFloating on front and back (whi
 le assisted)\n\nKicking\n\nMon. & Wed.\, 5-5:30 p.m.\n\nFeb. 3-26\n\nCost:
  $50/M $75/G\n\n603.017
DTSTART;TZID=America/New_York:20200203T173000
DTEND;TZID=America/New_York:20200203T180000
END:VEVENT
END:VCALENDAR
