BEGIN:VCALENDAR
PRODID:-//eluceo/ical//2.0/EN
VERSION:2.0
CALSCALE:GREGORIAN
BEGIN:VEVENT
UID:07751c86feeb39edcbfdf7ed2855118d
DTSTAMP:20260421T001350Z
SUMMARY:Preschool 1 American Red Cross Swim Lessons
DESCRIPTION:Shaw JCC of Akron\nJCC Calendar\nhttps://shawjcc.org/jcccalenda
 r/preschool-1-american-red-cross-swim-lessonsnov11-325574\n\nWe will intro
 duce your child to being comfortable in the water for the first time in a 
 group setting without mom and dad. They will learn basic swimming skills\,
  blowing bubbles\, kicking\, floating on front and back while assisted and
  most importantly having fun for preschoolers 3 to 5 years old.\n\nCost: $
 45 M/$65 G\n\n603.017\n\nMondays & Wednesdays  Nov. 11-Dec. 4\, 5:30-6 p
 .m.\n\n 
DTSTART;TZID=America/New_York:20191111T173000
DTEND;TZID=America/New_York:20191111T180000
END:VEVENT
END:VCALENDAR
