BEGIN:VCALENDAR
PRODID:-//eluceo/ical//2.0/EN
VERSION:2.0
CALSCALE:GREGORIAN
BEGIN:VEVENT
UID:8284bf79498bb393014695672550e81a
DTSTAMP:20260421T154412Z
SUMMARY:Preschool 2 (Ages 3+) - American Red Cross Swimming Lessons
DESCRIPTION:Shaw JCC of Akron\nJCC Calendar\nhttps://shawjcc.org/jcccalenda
 r/preschool-2-ages-3-american-red-cross-swimming-lessons-02122018\n\nChild
 ren will continue learning the foundations of safe exploration and basic s
 wimming skills from bobbing in the water to working on basic arm and leg a
 ction on their front up to three body lengths in the water. They will cont
 inue developing confidence in the water.\n\n603.054
DTSTART;TZID=America/New_York:20180212T173000
DTEND;TZID=America/New_York:20180212T180000
END:VEVENT
END:VCALENDAR
