BEGIN:VCALENDAR
PRODID:-//eluceo/ical//2.0/EN
VERSION:2.0
CALSCALE:GREGORIAN
BEGIN:VEVENT
UID:470b03707627b27f3084888d598e9cb1
DTSTAMP:20260421T001340Z
SUMMARY:Preschool 2 (Ages 3+) - American Red Cross Swimming Lessons
DESCRIPTION:Shaw JCC of Akron\nJCC Calendar\nhttps://shawjcc.org/jcccalenda
 r/preschool-2-ages-3-american-red-cross-swimming-lessons-0611212018\n\nYou
 r child will continue developing confidence in the water and learning the 
 foundations of safe exploration and basic swimming skills from bobbing in 
 the water to working on basic arm and leg action on their front up to thre
 e body lengths in the water. \n\nClass runs June 11-21\n\n603.059
DTSTART;TZID=America/New_York:20180611T101500
DTEND;TZID=America/New_York:20180611T104500
END:VEVENT
END:VCALENDAR
