BEGIN:VCALENDAR
PRODID:-//eluceo/ical//2.0/EN
VERSION:2.0
CALSCALE:GREGORIAN
BEGIN:VEVENT
UID:9bf2e4a53f7c26725bdbbbb5adc547aa
DTSTAMP:20260421T211633Z
SUMMARY:Preschool 2 (Ages 3+) - American Red Cross Swimming Lessons
DESCRIPTION:Shaw JCC of Akron\nJCC Calendar\nhttps://shawjcc.org/jcccalenda
 r/preschool-2-ages-3-american-red-cross-swimming-lessons-07232018\n\nYour 
 child will continue developing confidence in the water and learning the fo
 undations of safe exploration and basic swimming skills from bobbing in th
 e water to working on basic arm and leg action on their front up to three 
 body lengths in the water. \n\nClass runs July 23 through Aug. 2\n\n603.0
 62
DTSTART;TZID=America/New_York:20180723T101500
DTEND;TZID=America/New_York:20180723T104500
END:VEVENT
END:VCALENDAR
