BEGIN:VCALENDAR
PRODID:-//eluceo/ical//2.0/EN
VERSION:2.0
CALSCALE:GREGORIAN
BEGIN:VEVENT
UID:5b8c8342a683014c633b3a2d6d389fa4
DTSTAMP:20260420T171723Z
SUMMARY:Preschool 2 (Ages 3+) - American Red Cross Swimming Lessons
DESCRIPTION:Shaw JCC of Akron\nJCC Calendar\nhttps://shawjcc.org/jcccalenda
 r/preschool-2-ages-3-american-red-cross-swimming-lessons-09152018\n\nChild
 ren ages 3 to 5 years old will continue learning the foundations of safe e
 xploration and basic swimming skills from bobbing in the water to working 
 on basic arm and leg action on their front up to three body lengths in the
  water and will continue developing confidence in the water.\n\nSaturdays\
 , Sept. 22-Nov. 10\n\n603.066
DTSTART;TZID=America/New_York:20180922T093000
DTEND;TZID=America/New_York:20180922T100000
END:VEVENT
END:VCALENDAR
