BEGIN:VCALENDAR
PRODID:-//eluceo/ical//2.0/EN
VERSION:2.0
CALSCALE:GREGORIAN
BEGIN:VEVENT
UID:2137a61f4c6282bd24936c33073a14e7
DTSTAMP:20260422T222546Z
SUMMARY:Preschool 2 (Ages 3+) - American Red Cross Swimming Lessons
DESCRIPTION:Shaw JCC of Akron\nJCC Calendar\nhttps://shawjcc.org/jcccalenda
 r/preschool-2-ages-3-american-red-cross-swimming-lessons36215687\n\nBuild 
 your toddler’s confidence in the water through safe exploration. We will
  introduce your child to being\ncomfortable in the water for the first tim
 e in a group setting without mom and dad. They will learn basic\nswimming 
 skills\, blowing bubbles\, kicking\, floating on front and back while assi
 sted and most importantly\nhaving fun!\n\nNo class Dec. 31.\n\nCost: $43 M
 /$65 G
DTSTART;TZID=America/New_York:20171118T093000
DTEND;TZID=America/New_York:20171118T100000
END:VEVENT
END:VCALENDAR
