BEGIN:VCALENDAR
PRODID:-//eluceo/ical//2.0/EN
VERSION:2.0
CALSCALE:GREGORIAN
BEGIN:VEVENT
UID:3e179fec19de51b641ecad675c3e60d4
DTSTAMP:20260423T185411Z
SUMMARY:Preschool 2 American Red Cross Swim Lessons
DESCRIPTION:Shaw JCC of Akron\nJCC Calendar\nhttps://shawjcc.org/jcccalenda
 r/preschool-2-american-red-cross-swim-lessons-june102019\n\nChildren ages 
 3 to 5 years old will continue learning the foundations of safe exploratio
 n and basic swimming skills from bobbing in the water to working on basic 
 arm and leg action on their front up to three body lengths in the water an
 d will continue developing confidence in the water.\n\n 603.056\n\nCost: 
 $43 Member/$65 Guest \n\nJun. 10-Jul. 3 Mondays & Wednesdays 5:30-6 p.m.
DTSTART;TZID=America/New_York:20190610T173000
DTEND;TZID=America/New_York:20190610T180000
END:VEVENT
END:VCALENDAR
