BEGIN:VCALENDAR
PRODID:-//eluceo/ical//2.0/EN
VERSION:2.0
CALSCALE:GREGORIAN
BEGIN:VEVENT
UID:7e7a26f412bb97a0f16a4113d7ebda48
DTSTAMP:20260423T171152Z
SUMMARY:Preschool 2 American Red Cross Swim Lessons
DESCRIPTION:Shaw JCC of Akron\nJCC Calendar\nhttps://shawjcc.org/jcccalenda
 r/preschool-2-american-red-cross-swim-lessons-june172019\n\nChildren ages 
 3 to 5 years old will continue learning the foundations of safe exploratio
 n and basic swimming skills from bobbing in the water to working on basic 
 arm and leg action on their front up to three body lengths in the water an
 d will continue developing confidence in the water. \n\n603.059\n\nCost: 
 $43 Member/$65 Guest \n\nJun. 17-27 Mondays\, Tuesdays\, Wednesdays\, & T
 hursdays 10:15-10:45 a.m. 
DTSTART;TZID=America/New_York:20190617T101500
DTEND;TZID=America/New_York:20190617T104500
END:VEVENT
END:VCALENDAR
