BEGIN:VCALENDAR
PRODID:-//eluceo/ical//2.0/EN
VERSION:2.0
CALSCALE:GREGORIAN
BEGIN:VEVENT
UID:03f5fd96a7c574e6b4e4879bf7c8ff00
DTSTAMP:20260420T235120Z
SUMMARY:Preschool 2 American Red Cross Swim Lessons
DESCRIPTION:Shaw JCC of Akron\nJCC Calendar\nhttps://shawjcc.org/jcccalenda
 r/preschool-2-american-red-cross-swim-lessonssatjan-337544\n\nBuilding on 
 the PRESCHOOL 1 class\, children ages 3-5 years old will continue to learn
  the foundations of basic skills and safe water exploration. \n\nSwimmers
  will learn how to:\n\n\nBobbing in the water\nBasic arm and leg action\nT
 o building confidence in the water\n\n\nSat.\, Jan. 4-Feb. 22\, 9:30-10 a.
 m.\n\nCost: $50/M $75/G\n\n603.088
DTSTART;TZID=America/New_York:20200104T103000
DTEND;TZID=America/New_York:20200104T110000
END:VEVENT
END:VCALENDAR
