BEGIN:VCALENDAR
PRODID:-//eluceo/ical//2.0/EN
VERSION:2.0
CALSCALE:GREGORIAN
BEGIN:VEVENT
UID:ead1e1b39ea0b4a8b6455b285fb93f6a
DTSTAMP:20260420T235518Z
SUMMARY:Preschool Swim Lessons (ages 3+)
DESCRIPTION:Shaw JCC of Akron\nJCC Calendar\nhttps://shawjcc.org/jcccalenda
 r/preschool-swim-lessons-ages-3-jan7\n\n(Formerly Aqua Toddlers) Build you
 r toddler’s confidence in the water through safe exploration. Children m
 ust be at least 3 years old. We will introduce your child to being comfort
 able in the water for the first time in a group setting without mom and da
 d. They will learn basic swimming skills\, blowing bubbles\, kicking\, flo
 ating on front and back while assisted and most importantly having fun!\n\
 nCost: $35 M/$55 G \n\nCall 330-867-7850 or stop by the desk to register!
  603.023
DTSTART;TZID=America/New_York:20170107T090000
DTEND;TZID=America/New_York:20170107T093000
END:VEVENT
END:VCALENDAR
