BEGIN:VCALENDAR
PRODID:-//eluceo/ical//2.0/EN
VERSION:2.0
CALSCALE:GREGORIAN
BEGIN:VEVENT
UID:3534453e7ff421a7811e2cce912c548b
DTSTAMP:20260422T172532Z
SUMMARY:RCJ Pumpkin Carving rcj
DESCRIPTION:Shaw JCC of Akron\nJCC Calendar\nhttps://shawjcc.org/jcccalenda
 r/rcj-pumpkin-carving-1505440708-246819\n\nIt's time for our Annual Pumpki
 n Carving Event! We will provide tools for carving\, plenty of cider and r
 efreshments\, and a FREE pumpkin for anyone who RSVPs via email or Faceboo
 k by Thursday 10/19/17. We will be meeting at the picnic tables at the F.A
 . Seiberling Nature Realm on the right side as you enter the parking lot. 
 We will relocate in the case of inclement weather. Stay for a walk through
  the park after. Free for all. Young families welcome! \n\nThis event is 
 free\, but you'll want to...
DTSTART;TZID=America/New_York:20171021T140000
DTEND;TZID=America/New_York:20171021T160000
END:VEVENT
END:VCALENDAR
