BEGIN:VCALENDAR
PRODID:-//eluceo/ical//2.0/EN
VERSION:2.0
CALSCALE:GREGORIAN
BEGIN:VEVENT
UID:27584b709131e130193c99c987590061
DTSTAMP:20260420T103810Z
SUMMARY:RCJ Sushi in the Sukkah
DESCRIPTION:Shaw JCC of Akron\nJCC Calendar\nhttps://shawjcc.org/jcccalenda
 r/rcj-sushi-in-the-sukkah-1505440280-246817\n\nEveryone loved Sushi in the
  Sukkah\, so we're having it again! Celebrate the Festival Holiday of Sukk
 ot in the beautiful Sukkah of Leora and Nathan Cohen. Family friendly\, co
 me at any time! FREE for RCJ ticket holders\, $5 for non-ticket holders.
DTSTART;TZID=America/New_York:20171010T173000
DTEND;TZID=America/New_York:20171010T200000
END:VEVENT
END:VCALENDAR
