BEGIN:VCALENDAR
PRODID:-//eluceo/ical//2.0/EN
VERSION:2.0
CALSCALE:GREGORIAN
BEGIN:VEVENT
UID:98f71256e6df5e30db211d0d0b1d5c34
DTSTAMP:20260423T075615Z
SUMMARY:Restaurant Review
DESCRIPTION:Shaw JCC of Akron\nJCC Calendar\nhttps://shawjcc.org/jcccalenda
 r/restaurant-review--02222017\n\nIt’s dinner time! Enjoy food and conver
 sation with us. PLEASE RSVP to Rachel at LEAST one day prior to event to e
 nsure seating. Meet on your own at 5:30 p.m.\n\nBomba Tacos & Rum –  39
 00 Medina Rd. (corner of Market and Medina Rds)\, Akron 
DTSTART;TZID=America/New_York:20180222T173000
DTEND;TZID=America/New_York:20180222T193000
END:VEVENT
END:VCALENDAR
