BEGIN:VCALENDAR
PRODID:-//eluceo/ical//2.0/EN
VERSION:2.0
CALSCALE:GREGORIAN
BEGIN:VEVENT
UID:0e9cfb88b0186280c9536ab1dfb4346b
DTSTAMP:20260424T190904Z
SUMMARY:Restaurant Review - The New Era Restaurant
DESCRIPTION:Shaw JCC of Akron\nJCC Calendar\nhttps://shawjcc.org/jcccalenda
 r/restaurant-review-the-new-era-restaurant\n\nEnjoy food and conversation.
  RSVP to Rachel at least one day in advance. 10 Massillon Rd\, Akron\, OH
  44312
DTSTART;TZID=America/New_York:20170824T173000
DTEND;TZID=America/New_York:20170824T193000
END:VEVENT
END:VCALENDAR
