BEGIN:VCALENDAR
PRODID:-//eluceo/ical//2.0/EN
VERSION:2.0
CALSCALE:GREGORIAN
BEGIN:VEVENT
UID:049a4175a2123e217de495c6d144e7af
DTSTAMP:20260422T173845Z
SUMMARY:Retired Men's Club
DESCRIPTION:Shaw JCC of Akron\nJCC Calendar\nhttps://shawjcc.org/jcccalenda
 r/retired-mens-clubfeb25\n\nJoin the Retired Men’s Club for open discuss
 ion on the 2nd and 4th Tuesday in the month. No RSVP necessary. Coffee and
  bagels will be served. $1 donation suggested.\n\n2nd and 4th Tues. in the
  Month.
DTSTART;TZID=America/New_York:20200225T093000
DTEND;TZID=America/New_York:20200225T113000
END:VEVENT
END:VCALENDAR
