BEGIN:VCALENDAR
PRODID:-//eluceo/ical//2.0/EN
VERSION:2.0
CALSCALE:GREGORIAN
BEGIN:VEVENT
UID:7033be2e5ef9e93e02950888a0148d2e
DTSTAMP:20260421T133753Z
SUMMARY:Retired Men's Group
DESCRIPTION:Shaw JCC of Akron\nJCC Calendar\nhttps://shawjcc.org/jcccalenda
 r/retired-mens-groupdec\n\nJoin the Retired Men’s Club for open discussi
 on on the 2nd and 4th Tuesday in the month. No RSVP necessary. Coffee and 
 bagels will be served. $1 donation suggested. 
DTSTART;TZID=America/New_York:20191210T093000
DTEND;TZID=America/New_York:20191210T113000
END:VEVENT
END:VCALENDAR
