BEGIN:VCALENDAR
PRODID:-//eluceo/ical//2.0/EN
VERSION:2.0
CALSCALE:GREGORIAN
BEGIN:VEVENT
UID:dc446829694d5bf933db4279afd97074
DTSTAMP:20260425T125253Z
SUMMARY:Retired Men's Group
DESCRIPTION:Shaw JCC of Akron\nJCC Calendar\nhttps://shawjcc.org/jcccalenda
 r/retired-mens-groupfeb12\n\nJoin the Retired Men’s Group for open discu
 ssion on the 2nd and 4th Tuesday in the month. No RSVP necessary. Coffee a
 nd bagels will be served! $1 donation suggested.
DTSTART;TZID=America/New_York:20191008T093000
DTEND;TZID=America/New_York:20191008T113000
END:VEVENT
END:VCALENDAR
