BEGIN:VCALENDAR
PRODID:-//eluceo/ical//2.0/EN
VERSION:2.0
CALSCALE:GREGORIAN
BEGIN:VEVENT
UID:54319c338578a6d32164919c5824750f
DTSTAMP:20260422T180858Z
SUMMARY:Ride of the Month: "20/20/20" Ride
DESCRIPTION:Shaw JCC of Akron\nJCC Calendar\nhttps://shawjcc.org/jcccalenda
 r/ride-of-the-month-202020-ride\n\nWhat is the Ride of the Month (ROM)? An
  elevated themed Spinning experience once a month that ranges anywhere fro
 m 60-90 minutes and is open to members and nonmembers. \n\nDecember's Rid
 e of the Month: "20/20/20"\n\nSixty minutes of cycling\, strength\, and yo
 ga\n\nPlease pre-register at the Fitness Desk to reserve your spot. Fourte
 en bikes are available. 
DTSTART;TZID=America/New_York:20191207T083000
DTEND;TZID=America/New_York:20191207T093000
END:VEVENT
END:VCALENDAR
