BEGIN:VCALENDAR
PRODID:-//eluceo/ical//2.0/EN
VERSION:2.0
CALSCALE:GREGORIAN
BEGIN:VEVENT
UID:807f87b60525ec6cb10d091d334c1fbf
DTSTAMP:20260421T014723Z
SUMMARY:Samson Dubina Table Tennis Tournament
DESCRIPTION:Shaw JCC of Akron\nJCC Calendar\nhttps://shawjcc.org/jcccalenda
 r/samson-dubina-table-tennis-tournament-1476194545-210209\n\n$3000 Newgy O
 hio Open\n\nUSATT Sanctioned 2-Star Table Tennis Tournament\n\nShaw JCC 75
 0 White Pond Dr Akron\n\n \n\nOn Feb 17-18\, players ten different states
  are coming to the Shaw JCC in Akron\, Ohio to compete for awesome trophie
 s\, excellent prizes\, and a chunk of the $3000 in cash.  The highlights 
 for the weekend include the Open Singles Event from 2-6pm on Saturday\, di
 visional championships throughout Friday and Saturday\, and the recreation
 al events from 6:30-9pm on Saturday.  Walk-in...
DTSTART;TZID=America/New_York:20170217T093000
DTEND;TZID=America/New_York:20170218T220000
END:VEVENT
END:VCALENDAR
