BEGIN:VCALENDAR
PRODID:-//eluceo/ical//2.0/EN
VERSION:2.0
CALSCALE:GREGORIAN
BEGIN:VEVENT
UID:e04cb644c2af39795aa68733e67ce225
DTSTAMP:20260420T093122Z
SUMMARY:Scammers Beware!
DESCRIPTION:Shaw JCC of Akron\nJCC Calendar\nhttps://shawjcc.org/jcccalenda
 r/scammers-bewaremay30\n\nAll-to-often\, scam artists set their sights on 
 victimizing older adults. In fact\, financial scams targeting seniors has 
 become so prevalent it’s now considered “the crime of the 21st century
 .” Seniors in all income groups are at risk\, including those with very 
 little money and those who are wealthy. It’s important to be aware of th
 ose scams so you can protect yourself and your loved ones.\n\nKathleen Sem
 inatore\, an investigator from the Summit Co. Office of Consumer Affairs\,
  will be h...
DTSTART;TZID=America/New_York:20190530T110000
DTEND;TZID=America/New_York:20190530T123000
END:VEVENT
END:VCALENDAR
