BEGIN:VCALENDAR
PRODID:-//eluceo/ical//2.0/EN
VERSION:2.0
CALSCALE:GREGORIAN
BEGIN:VEVENT
UID:31533319ebb5c7bfa74cc369a844d169
DTSTAMP:20260422T132855Z
SUMMARY:Schultz Campus All Staff Training
DESCRIPTION:Shaw JCC of Akron\nJCC Calendar\nhttps://shawjcc.org/jcccalenda
 r/schultz-campus-all-staff-training-1557164409-309510\n\n.
DTSTART;TZID=America/New_York:20190826T100000
DTEND;TZID=America/New_York:20190826T120000
END:VEVENT
END:VCALENDAR
