BEGIN:VCALENDAR
PRODID:-//eluceo/ical//2.0/EN
VERSION:2.0
CALSCALE:GREGORIAN
BEGIN:VEVENT
UID:98a04e56072aec9d16278de85af597f2
DTSTAMP:20260420T221619Z
SUMMARY:Screenagers Movie
DESCRIPTION:Shaw JCC of Akron\nJCC Calendar\nhttps://shawjcc.org/jcccalenda
 r/screenagers-movie-254827\n\nSee how Tech time impacts kids development a
 nd offers solutions on how adults can impower kids and best navigate  the
  digital world and find balance.\n\nJoin us on Wednesday\, March 21\, 2018
 \n\nTime: 6:45-8:45 pm\n\nWhere: Shaw JCC Auditorium\n\nNo fee involved
DTSTART;TZID=America/New_York:20180321T184500
DTEND;TZID=America/New_York:20180321T203000
END:VEVENT
END:VCALENDAR
