BEGIN:VCALENDAR
PRODID:-//eluceo/ical//2.0/EN
VERSION:2.0
CALSCALE:GREGORIAN
BEGIN:VEVENT
UID:e9e90eca403b1c8f0cb8dcd25509a523
DTSTAMP:20260422T125721Z
SUMMARY:Shaliach Mor Roffe Community Farewell Party
DESCRIPTION:Shaw JCC of Akron\nJCC Calendar\nhttps://shawjcc.org/jcccalenda
 r/shaliach-mor-roffe-community-farewell-party-317319\n\nJoin us July 23rd\
 , 4:30-6:00 p.m.\, for a community farewell to our good friend and shaliac
 h Mor Roffe. Dessert and drinks will be served.
DTSTART;TZID=America/New_York:20190723T163000
DTEND;TZID=America/New_York:20190723T183000
END:VEVENT
END:VCALENDAR
