BEGIN:VCALENDAR
PRODID:-//eluceo/ical//2.0/EN
VERSION:2.0
CALSCALE:GREGORIAN
BEGIN:VEVENT
UID:994fe6fc825dbd18970b1cd613f33082
DTSTAMP:20260425T195007Z
SUMMARY:Shaw JCC Board Meeting
DESCRIPTION:Shaw JCC of Akron\nJCC Calendar\nhttps://shawjcc.org/jcccalenda
 r/shaw-jcc-board-meeting-1466714705-196318\n\n.
DTSTART;TZID=America/New_York:20170522T190000
DTEND;TZID=America/New_York:20170522T203000
END:VEVENT
END:VCALENDAR
