BEGIN:VCALENDAR
PRODID:-//eluceo/ical//2.0/EN
VERSION:2.0
CALSCALE:GREGORIAN
BEGIN:VEVENT
UID:1d662e9f7aca9a74d636c6e29b0087d0
DTSTAMP:20260420T233732Z
SUMMARY:Shaw JCC Mega Training Camp - by Samson Dubina
DESCRIPTION:Shaw JCC of Akron\nJCC Calendar\nhttps://shawjcc.org/jcccalenda
 r/shaw-jcc-mega-training-camp-by-samson-dubina-dec272017\n\nThe J will be 
 hosting the largest table tennis training camp ever in Ohio!\nWith many el
 ite coaches and training partners\, this will be your best table tennis ex
 perience ever. Also offered\, an accommodation package which includes hous
 ing\, breakfast\, airport transportation\, venue transportation\, and 24 h
 our supervision. It isn’t just a week of hard training\, it is a wealth 
 of information that will have a lasting impact on your athletic career!\n\
 nFill out the Entry Form and return to Samso...
DTSTART;TZID=America/New_York:20171227T153000
DTEND;TZID=America/New_York:20171230T180000
END:VEVENT
END:VCALENDAR
