BEGIN:VCALENDAR
PRODID:-//eluceo/ical//2.0/EN
VERSION:2.0
CALSCALE:GREGORIAN
BEGIN:VEVENT
UID:9694d9be5b80cfb232ad264a59d73c8f
DTSTAMP:20260423T061206Z
SUMMARY:Shlichim Event: Paint Date
DESCRIPTION:Shaw JCC of Akron\nJCC Calendar\nhttps://shawjcc.org/jcccalenda
 r/shlichim-event-paint-date-1523633252-267577\n\nPaint Date is back for th
 ose who missed the first or want another shot at the title of #1 painter! 
 Join us for a “no-skill required” event of music\, art and a lot of fu
 n.\n\nCost: $5. Pre-registration required.
DTSTART;TZID=America/New_York:20180524T180000
DTEND;TZID=America/New_York:20180524T200000
END:VEVENT
END:VCALENDAR
