BEGIN:VCALENDAR
PRODID:-//eluceo/ical//2.0/EN
VERSION:2.0
CALSCALE:GREGORIAN
BEGIN:VEVENT
UID:1cc0fe44145ec54cad9c558018a08c60
DTSTAMP:20260421T182056Z
SUMMARY:Shlichim Program - Jewish Movie Night - Dough
DESCRIPTION:Shaw JCC of Akron\nJCC Calendar\nhttps://shawjcc.org/jcccalenda
 r/shlichim-program-1469655818-201240\n\nJewish Movie Night - Dough (2015) 
 - Note! This movie has been changed and this is the updated one!\n\n \n\n
 An old Jewish baker struggles to keep his business afloat until his young 
 Muslim apprentice drops cannabis in thedough and sends sales sky high! Dir
 ected by John Goldscmidt - Star: Jonathan Pryce\n\n \n\n​https://www.yo
 utube.com/watch?v=Y7b4IoNRhtk​ - Trailer\n\n \n\nFREE & Open to all\, d
 esserts\, Popcorn and hot drinks are served.  Please RSVP to Shay at Shl
 ichim@jewishakron.org...
DTSTART;TZID=America/New_York:20170323T183000
DTEND;TZID=America/New_York:20170323T200000
END:VEVENT
END:VCALENDAR
