BEGIN:VCALENDAR
PRODID:-//eluceo/ical//2.0/EN
VERSION:2.0
CALSCALE:GREGORIAN
BEGIN:VEVENT
UID:4671f72e5b21320c9cab2270dc228e49
DTSTAMP:20260421T050903Z
SUMMARY:Shlichim Program - GOODBYE FAREWELL PARTY for Mayana & Shay
DESCRIPTION:Shaw JCC of Akron\nJCC Calendar\nhttps://shawjcc.org/jcccalenda
 r/shlichim-program-goodbye-farewell-party-for-mayana-shay-226751\n\nThis i
 s my last program with the community :(\n\nMayana and I would love to see 
 you all and thank each and every one of you personally for an amazing two 
 years!!! We will share our greatest moments in a presentation full of pict
 ures and videos from our experiences as your Akron Shlichim!
DTSTART;TZID=America/New_York:20170612T190000
DTEND;TZID=America/New_York:20170612T203000
END:VEVENT
END:VCALENDAR
