BEGIN:VCALENDAR
PRODID:-//eluceo/ical//2.0/EN
VERSION:2.0
CALSCALE:GREGORIAN
BEGIN:VEVENT
UID:44115eb6fc5c204f7b914d26f1627905
DTSTAMP:20260421T001121Z
SUMMARY:Shlichim Program: M.O.R.A.K: Israeli Army Stories
DESCRIPTION:Shaw JCC of Akron\nJCC Calendar\nhttps://shawjcc.org/jcccalenda
 r/shlichim-program-morak-israeli-army-stories-1510606832-252311\n\nCome he
 ar some super secret stories (more or less) about cool things the Israeli 
 Army did\, and what role we (and others) had to play in them.\n\n \n\nFRE
 E & Open to all\, desserts and hot drinks are served.  Please RSVP to Ur
 i & Gili at Shlichim@jewishakron.org.
DTSTART;TZID=America/New_York:20180206T190000
DTEND;TZID=America/New_York:20180206T210000
END:VEVENT
END:VCALENDAR
