BEGIN:VCALENDAR
PRODID:-//eluceo/ical//2.0/EN
VERSION:2.0
CALSCALE:GREGORIAN
BEGIN:VEVENT
UID:39761b65e63fd2d7d7dfb2ad93e1d09f
DTSTAMP:20260424T023637Z
SUMMARY:Shlihcim Program: National V.S. Army Service
DESCRIPTION:Shaw JCC of Akron\nJCC Calendar\nhttps://shawjcc.org/jcccalenda
 r/shlihcim-program-national-vs-army-service-1510607708-252312\n\nWe will t
 alk about the differences between army service and a national service in I
 srael: who usually chooses which course\, the benefits of each of them and
  will discuss the immortal question: "do Israel really need a mandatory en
 listment?"
DTSTART;TZID=America/New_York:20180220T190000
DTEND;TZID=America/New_York:20180220T210000
END:VEVENT
END:VCALENDAR
