BEGIN:VCALENDAR
PRODID:-//eluceo/ical//2.0/EN
VERSION:2.0
CALSCALE:GREGORIAN
BEGIN:VEVENT
UID:94af2f15d4e55b7d187c134075804fdf
DTSTAMP:20260421T154352Z
SUMMARY:Schultz Campus Youth Event @ Akron Artworks
DESCRIPTION:Shaw JCC of Akron\nJCC Calendar\nhttps://shawjcc.org/jcccalenda
 r/shultz-campus-youth-event--akron-artworks-1542149868-293500\n\nWHO: Yout
 h Groups & Teens grades 8-12\nWHEN: Sunday\, November 18\, 2:30-4:30 P.M.\
 nWHERE: Akron ArtWorks\, 1720 Merriman Road\, Akron\, OH 44313\nThe Schult
 z Campus Youth Program is hosting “Holiday Expressions in Art”. Meet n
 ew friends while Akron Artworks artists teach teens how to create cool\, p
 rofessional print-making holiday cards for your friends and family. Food a
 nd beverages provided.\nCost: *FREE with RSVP.\n*Please bring a canned foo
 d donation that will be part of the Canorah at...
DTSTART;TZID=America/New_York:20181118T143000
DTEND;TZID=America/New_York:20181118T163000
END:VEVENT
END:VCALENDAR
