BEGIN:VCALENDAR
PRODID:-//eluceo/ical//2.0/EN
VERSION:2.0
CALSCALE:GREGORIAN
BEGIN:VEVENT
UID:37482661e9432a678b080787ee7bb070
DTSTAMP:20260421T154202Z
SUMMARY:Silver J Ticket Open House
DESCRIPTION:Shaw JCC of Akron\nJCC Calendar\nhttps://shawjcc.org/jcccalenda
 r/silver-j-ticket-open-house-1523647272-267649\n\nAre you an older adult w
 ho needs extra help around the house\, or transportation services? The Jew
 ish Service of Akron is your gateway to the new Silver J-Ticket Program of
 fering homemaking and transportation services for Jewish individuals 62 an
 d better who wish to remain safe in their homes.  This program is made pos
 sible through a grant provided by the Schultz Foundation allowing older ad
 ults to have access to these services at a reduced cost making them more a
 ffordable for you.
DTSTART;TZID=America/New_York:20180524T090000
DTEND;TZID=America/New_York:20180524T113000
END:VEVENT
END:VCALENDAR
