BEGIN:VCALENDAR
PRODID:-//eluceo/ical//2.0/EN
VERSION:2.0
CALSCALE:GREGORIAN
BEGIN:VEVENT
UID:e2483e332fe4c146a592a2db04625010
DTSTAMP:20260421T102026Z
SUMMARY:SilverSneakers Circuit
DESCRIPTION:Shaw JCC of Akron\nJCC Calendar\nhttps://shawjcc.org/jcccalenda
 r/silversneakers-circuit-02052018\n\nThe SilverSneakers® Circuit workout 
 offers standing\, low-impact choreography alternated with standing upper-b
 ody strength work with hand-held weights\, elastic tubing with handles and
  a SilverSneakers® ball. A chair is available for support. This class is 
 suitable for nearly every fitness level and can be adapted depending on th
 e skill of individual participants.
DTSTART;TZID=America/New_York:20180205T100000
DTEND;TZID=America/New_York:20180205T104500
END:VEVENT
END:VCALENDAR
