BEGIN:VCALENDAR
PRODID:-//eluceo/ical//2.0/EN
VERSION:2.0
CALSCALE:GREGORIAN
BEGIN:VEVENT
UID:0a389e58dddf1de1307e3918ad6d3036
DTSTAMP:20260424T133147Z
SUMMARY:SilverSneakers Classic
DESCRIPTION:Shaw JCC of Akron\nJCC Calendar\nhttps://shawjcc.org/jcccalenda
 r/silversneakers-classic-01022018\n\nThe SilverSneakers Circuit workout of
 fers standing\, low-impact choreography alternated with standing upper-bod
 y strength work with hand-held weights\, elastic tubing with handles and a
  SilverSneakers ball.A chair is available for support.
DTSTART;TZID=America/New_York:20180102T084500
DTEND;TZID=America/New_York:20180102T093000
END:VEVENT
END:VCALENDAR
