BEGIN:VCALENDAR
PRODID:-//eluceo/ical//2.0/EN
VERSION:2.0
CALSCALE:GREGORIAN
BEGIN:VEVENT
UID:96e0a94903527344ed6351ce176973cc
DTSTAMP:20260421T192318Z
SUMMARY:SilverSneakers Health Fair
DESCRIPTION:Shaw JCC of Akron\nJCC Calendar\nhttps://shawjcc.org/jcccalenda
 r/silversneakers-health-fair12012017\n\nFREE event for Shaw JCC members! A
 re you looking to get more out of your time at The J? Then come to our Sli
 verSneaker Health Fair! There will be a scavenger hunt that leads everyone
  through the building and shows everything we have to offer our seniors. 
 \n\nDiscover how to get fit... your way!\n• SilverSneakers® Class Demos
  including: Classic\, Circuit and Yoga\n• Onsite Fit Plan Scheduling\, l
 earn more about the fitness center and how to use the machines\n• Chair 
 Massages with our res...
DTSTART;TZID=America/New_York:20171201T110000
DTEND;TZID=America/New_York:20171201T130000
END:VEVENT
END:VCALENDAR
