BEGIN:VCALENDAR
PRODID:-//eluceo/ical//2.0/EN
VERSION:2.0
CALSCALE:GREGORIAN
BEGIN:VEVENT
UID:f569a1249d608a11d73cb33e7eddac9b
DTSTAMP:20260422T170227Z
SUMMARY:SilverSneakers Ping Pong
DESCRIPTION:Shaw JCC of Akron\nJCC Calendar\nhttps://shawjcc.org/jcccalenda
 r/silversneakers-ping-pong-04022018\n\nDrop in for some recreational ping 
 pong on Mondays\, 6-9 p.m. Players of all ages and all skill levels are we
 lcome\, but we are sending out a special invitation to SilverSneakers in t
 he community that want to improve their skills and work out.\n\nCost is $5
 /person. No pre-registration is necessary. Just join us on Mondays. More i
 nformation: www.OhioPingPong.com.
DTSTART;TZID=America/New_York:20180806T180000
DTEND;TZID=America/New_York:20180806T210000
END:VEVENT
END:VCALENDAR
