BEGIN:VCALENDAR
PRODID:-//eluceo/ical//2.0/EN
VERSION:2.0
CALSCALE:GREGORIAN
BEGIN:VEVENT
UID:faba76b0a2ae7bd03c7083ecb35c5d55
DTSTAMP:20260421T012635Z
SUMMARY:SilverSneakers Yoga
DESCRIPTION:Shaw JCC of Akron\nJCC Calendar\nhttps://shawjcc.org/jcccalenda
 r/silversneakers-yoga12072017\n\nImprove your strength\, flexibility\, & m
 obility through yoga poses specially adapted for seniors at any level of h
 ealth & fitness. (All Levels)
DTSTART;TZID=America/New_York:20171207T104500
DTEND;TZID=America/New_York:20171207T113000
END:VEVENT
END:VCALENDAR
