BEGIN:VCALENDAR
PRODID:-//eluceo/ical//2.0/EN
VERSION:2.0
CALSCALE:GREGORIAN
BEGIN:VEVENT
UID:0ec05c625d9e45f3988b175990a8b994
DTSTAMP:20260423T215334Z
SUMMARY:Six-Week Fitness & Weight Loss Challenge Program
DESCRIPTION:Shaw JCC of Akron\nJCC Calendar\nhttps://shawjcc.org/jcccalenda
 r/six-week-fitness-weight-loss-challenge-program-01092018\n\nChallenge you
 rself and sign up for our six-week Fitness and Weight loss program – Cho
 ose 2 Lose! Our certified personal trainers will guide and provide you wit
 h accountability through two training sessions and weekly weigh-ins. Our t
 rainers will also provide you with an exercise prescription with appropria
 te modifications and progressions personal to you. Your weekly workouts wi
 ll combine effective cardio and strength workouts that will target total b
 ody\, blast calories and burn fat. Maximu...
DTSTART;TZID=America/New_York:20180109T193000
DTEND;TZID=America/New_York:20180109T201500
END:VEVENT
END:VCALENDAR
