BEGIN:VCALENDAR
PRODID:-//eluceo/ical//2.0/EN
VERSION:2.0
CALSCALE:GREGORIAN
BEGIN:VEVENT
UID:ae95b7b5aac034e84db756d71e6e44d3
DTSTAMP:20260419T125527Z
SUMMARY:Slime School
DESCRIPTION:Shaw JCC of Akron\nJCC Calendar\nhttps://shawjcc.org/jcccalenda
 r/slime-school\n\nChildren will enjoy creating various types of ooey\, goo
 ey slime with Ms. Lindsay. Children will bring home a sample of each chil
 d-safe slime creation each week.\nCost: $30 Member/$35 Guest\n\nCall 330-8
 67-7850 or stop by the desk to register! 401.651
DTSTART;TZID=America/New_York:20170504T131500
DTEND;TZID=America/New_York:20170504T140000
END:VEVENT
END:VCALENDAR
