BEGIN:VCALENDAR
PRODID:-//eluceo/ical//2.0/EN
VERSION:2.0
CALSCALE:GREGORIAN
BEGIN:VEVENT
UID:42a8f89a6f8150c87da6a977f1136941
DTSTAMP:20260420T145813Z
SUMMARY:Small Town Series
DESCRIPTION:Shaw JCC of Akron\nJCC Calendar\nhttps://shawjcc.org/jcccalenda
 r/small-town-series\n\nNortheast Ohio is full of many beautiful and quaint
  towns. Join us as we visit some of these places a short distance away. Le
 arn the history of each town\, shop\, and lunch in a local restaurant. We 
 will be traveling the backroads on these adventures! Cost: $8 M/$15 G with
  lunch on your own.\n\nMay 3 - Wellington
DTSTART;TZID=America/New_York:20190503T093000
DTEND;TZID=America/New_York:20190503T133000
END:VEVENT
END:VCALENDAR
